BEGIN:VCALENDAR
VERSION:2.0
PRODID:-//Opportunitys Knaaking - ECPv6.15.20//NONSGML v1.0//EN
CALSCALE:GREGORIAN
METHOD:PUBLISH
X-WR-CALNAME:Opportunitys Knaaking
X-ORIGINAL-URL:https://opportunitysknaaking.com
X-WR-CALDESC:Events for Opportunitys Knaaking
REFRESH-INTERVAL;VALUE=DURATION:PT1H
X-Robots-Tag:noindex
X-PUBLISHED-TTL:PT1H
BEGIN:VTIMEZONE
TZID:America/Chicago
BEGIN:DAYLIGHT
TZOFFSETFROM:-0600
TZOFFSETTO:-0500
TZNAME:CDT
DTSTART:20220313T080000
END:DAYLIGHT
BEGIN:STANDARD
TZOFFSETFROM:-0500
TZOFFSETTO:-0600
TZNAME:CST
DTSTART:20221106T070000
END:STANDARD
BEGIN:DAYLIGHT
TZOFFSETFROM:-0600
TZOFFSETTO:-0500
TZNAME:CDT
DTSTART:20230312T080000
END:DAYLIGHT
BEGIN:STANDARD
TZOFFSETFROM:-0500
TZOFFSETTO:-0600
TZNAME:CST
DTSTART:20231105T070000
END:STANDARD
BEGIN:DAYLIGHT
TZOFFSETFROM:-0600
TZOFFSETTO:-0500
TZNAME:CDT
DTSTART:20240310T080000
END:DAYLIGHT
BEGIN:STANDARD
TZOFFSETFROM:-0500
TZOFFSETTO:-0600
TZNAME:CST
DTSTART:20241103T070000
END:STANDARD
END:VTIMEZONE
BEGIN:VEVENT
DTSTART;TZID=America/Chicago:20231115T150000
DTEND;TZID=America/Chicago:20231115T180000
DTSTAMP:20260423T210203
CREATED:20231031T235356Z
LAST-MODIFIED:20231031T235356Z
UID:1449-1700060400-1700071200@opportunitysknaaking.com
SUMMARY:“Connect Giving: A Feast of Community and Entertainment”
DESCRIPTION:CLICK HERE TO SECURE YOUR SPOT! \n\nEvent Description: \nJoin us for an extraordinary gathering of friends\, neighbors\, and fellow community members at “Connect Giving.” This event is all about coming together to share a dish\, create lasting connections\, and enjoy an unforgettable show for your entertainment. \nDescription: \n“Connect Giving” is a celebration of unity and generosity that will warm your heart and tickle your taste buds. You’re invited to bring your favorite dish to share\, whether it’s a family recipe\, a cultural delicacy\, or a dessert that everyone loves. This potluck-style feast will be a true culinary adventure\, showcasing the diverse and delicious talents of our community. \nEvent Highlights: \n\nPotluck Feast: A smorgasbord of flavors awaits as we come together to savor a variety of dishes. Share your love for food and taste the culinary creations of your neighbors.\nEntertainment Showcase: As you enjoy your meals\, be prepared for a mesmerizing show that will light up the evening. From live music and dance performances to stand-up comedy or a theatrical play\, our talented community members will take the stage to entertain you.\nCommunity Building: Connect with old friends and make new ones as we celebrate the spirit of togetherness. This event is the perfect opportunity to strengthen the bonds that make our community so special.\nGiving Back: In the spirit of giving\, we’ll be collecting cash donations for a local charity or cause. Your generosity will have a positive impact on those in need in our community.\nRaffles and Prizes: Participate in our raffle for a chance to win exciting prizes donated by local businesses and community members.\n\nWhat to Bring: \n\nYour Favorite Dish: Share a dish that represents your culinary prowess or cultural heritage. Please bring enough to serve at least 6-8 people.\nGood Company: Invite friends and family to join in the festivities and make the event even more special.\nA Giving Heart: Consider bringing a cash donation to support our community charity.\n\nWho Should Attend: \nThis event is open to everyone in the community\, from families and friends to individuals looking to connect with their neighbors and enjoy a wonderful evening of entertainment and cuisine. \nRegistration: \nAttendance is free\, but we encourage you to register in advance to help us plan accordingly. Let us know what dish you’ll be bringing and how many guests you’ll be bringing along for this delightful evening of Connect Giving. \nJoin us for a heartwarming evening of connection\, sharing\, and entertainment at “Connect Giving.” Together\, we’ll celebrate our community\, savor delicious food\, and enjoy an unforgettable show. Your presence and contributions will make this event a true success. We can’t wait to see you there!
URL:https://opportunitysknaaking.com/event/connect-giving-a-feast-of-community-and-entertainment/
LOCATION:The Celebration Center\, 13780 W Greenfield Ave #778\, Brookfield\, WI\, 53005\, United States
CATEGORIES:Connect,Networking
ATTACH;FMTTYPE=image/jpeg:https://opportunitysknaaking.com/wp-content/uploads/2023/10/ConnectGiving-connect.jpg
END:VEVENT
END:VCALENDAR